BEGIN:VCALENDAR
VERSION:2.0
PRODID:-//Kino Tuškanac//Filmski programi//HR
BEGIN:VEVENT
UID:4ccc14e139ea2bf6f3a8bac51e314e8d@kinotuskanac.hr
DTSTAMP:20260419T185711Z
DTSTART:20220630T210000
DTEND:20220630T230000
SUMMARY:Nasljednici
LOCATION:Kino Tuškanac
DESCRIPTION:The Descendants, SAD, 2011 R: Alexander Payne
END:VEVENT
END:VCALENDAR