BEGIN:VCALENDAR
VERSION:2.0
PRODID:-//Kino Tuškanac//Filmski programi//HR
BEGIN:VEVENT
UID:0788b9d280bc0acf66e3f4ee75c91f83@kinotuskanac.hr
DTSTAMP:20260423T150223Z
DTSTART:20060317T190000
DTEND:20060317T210000
SUMMARY:Najbolja mama
LOCATION:Kino Tuškanac
DESCRIPTION:Äideistä parhain, 2005 R: Klaus Härö
END:VEVENT
END:VCALENDAR