BEGIN:VCALENDAR
VERSION:2.0
PRODID:-//Kino Tuškanac//Filmski programi//HR
BEGIN:VEVENT
UID:1dac278f6c2104ff8a5ead83f6edb7a3@kinotuskanac.hr
DTSTAMP:20260422T171033Z
DTSTART:20220705T210000
DTEND:20220705T230000
SUMMARY:Marnie
LOCATION:Kino Tuškanac
DESCRIPTION:SAD, 1964 | Mjesto prikazivanja filma: Kulturno informativni centar KIC (Preradovićeva ul. 5) R: Alfred Hitchcock
END:VEVENT
END:VCALENDAR