BEGIN:VCALENDAR
VERSION:2.0
PRODID:-//Kino Tuškanac//Filmski programi//HR
BEGIN:VEVENT
UID:ef994d821bbc1d60e9e1e4a7e6d0c6f8@kinotuskanac.hr
DTSTAMP:20260421T092812Z
DTSTART:20220707T210000
DTEND:20220707T230000
SUMMARY:Prozor u dvorište
LOCATION:Kino Tuškanac
DESCRIPTION:Rear Window, SAD, 1954 R: Alfred Hitchcock
END:VEVENT
END:VCALENDAR