BEGIN:VCALENDAR
VERSION:2.0
PRODID:-//Kino Tuškanac//Filmski programi//HR
BEGIN:VEVENT
UID:0c247f004d47dc5d77c6b6b9f5d6883c@kinotuskanac.hr
DTSTAMP:20260420T230707Z
DTSTART:20220710T210000
DTEND:20220710T230000
SUMMARY:Nepoznati iz Nord Expressa
LOCATION:Kino Tuškanac
DESCRIPTION:Strangers on a Train, SAD, 1951 R: Alfred Hitchcock
END:VEVENT
END:VCALENDAR