BEGIN:VCALENDAR
VERSION:2.0
PRODID:-//Kino Tuškanac//Filmski programi//HR
BEGIN:VEVENT
UID:ea4ead194dc4c4f665fc1b8d0f089259@kinotuskanac.hr
DTSTAMP:20260421T012009Z
DTSTART:20220712T210000
DTEND:20220712T230000
SUMMARY:Konop
LOCATION:Kino Tuškanac
DESCRIPTION:Rope, SAD, 1948 R: Alfred Hitchcock
END:VEVENT
END:VCALENDAR