BEGIN:VCALENDAR
VERSION:2.0
PRODID:-//Kino Tuškanac//Filmski programi//HR
BEGIN:VEVENT
UID:a3b4344138891fb16b4002487803b47d@kinotuskanac.hr
DTSTAMP:20260423T113300Z
DTSTART:20060318T190000
DTEND:20060318T210000
SUMMARY:Nevidljiva Elina
LOCATION:Kino Tuškanac
DESCRIPTION:Näkymätön Elina, 2002 R: Klaus Härö
END:VEVENT
END:VCALENDAR