BEGIN:VCALENDAR
VERSION:2.0
PRODID:-//Kino Tuškanac//Filmski programi//HR
BEGIN:VEVENT
UID:7a1c344478398fed64d1f13642f5d7b9@kinotuskanac.hr
DTSTAMP:20260420T115134Z
DTSTART:20220716T210000
DTEND:20220716T230000
SUMMARY:Krivo optuženi
LOCATION:Kino Tuškanac
DESCRIPTION:The Wrong Man, SAD, 1956 R: Alfred Hitchcock
END:VEVENT
END:VCALENDAR