BEGIN:VCALENDAR
VERSION:2.0
PRODID:-//Kino Tuškanac//Filmski programi//HR
BEGIN:VEVENT
UID:6942c003ac94a5246ae63dd6f356ff00@kinotuskanac.hr
DTSTAMP:20260422T083347Z
DTSTART:20220717T210000
DTEND:20220717T230000
SUMMARY:Čovjek koji je suviše znao
LOCATION:Kino Tuškanac
DESCRIPTION:The Man Who Knew Too Much, SAD, 1956 R: Alfred Hitchcock
END:VEVENT
END:VCALENDAR