BEGIN:VCALENDAR
VERSION:2.0
PRODID:-//Kino Tuškanac//Filmski programi//HR
BEGIN:VEVENT
UID:ca7a84cf69629ffc9708ac25c42f6731@kinotuskanac.hr
DTSTAMP:20260423T042433Z
DTSTART:20220902T190000
DTEND:20220902T210000
SUMMARY:Lov na jelene
LOCATION:Kino Tuškanac
DESCRIPTION:Jugoslavija: Hrvatska, 1972 R: Fadil Hadžić
END:VEVENT
END:VCALENDAR