BEGIN:VCALENDAR
VERSION:2.0
PRODID:-//Kino Tuškanac//Filmski programi//HR
BEGIN:VEVENT
UID:ce0e1fff93c195b09ed9c257b3447115@kinotuskanac.hr
DTSTAMP:20260423T042519Z
DTSTART:20220903T210000
DTEND:20220903T230000
SUMMARY:Ambasador
LOCATION:Kino Tuškanac
DESCRIPTION:Jugoslavija: Hrvatska, 1984 R: Fadil Hadžić
END:VEVENT
END:VCALENDAR