BEGIN:VCALENDAR
VERSION:2.0
PRODID:-//Kino Tuškanac//Filmski programi//HR
BEGIN:VEVENT
UID:243b47fa73264a3e45fe86adc03554c7@kinotuskanac.hr
DTSTAMP:20260423T042750Z
DTSTART:20220906T190000
DTEND:20220906T210000
SUMMARY:Službeni položaj
LOCATION:Kino Tuškanac
DESCRIPTION:Jugoslavija: Srbija, 1964 R: Fadil Hadžić
END:VEVENT
END:VCALENDAR