BEGIN:VCALENDAR
VERSION:2.0
PRODID:-//Kino Tuškanac//Filmski programi//HR
BEGIN:VEVENT
UID:bbd7b46c87c683802416b5731bc0a228@kinotuskanac.hr
DTSTAMP:20260423T113447Z
DTSTART:20060320T210000
DTEND:20060320T230000
SUMMARY:Nevidljiva Elina
LOCATION:Kino Tuškanac
DESCRIPTION:Näkymätön Elina, 2002 R: Klaus Härö
END:VEVENT
END:VCALENDAR