BEGIN:VCALENDAR
VERSION:2.0
PRODID:-//Kino Tuškanac//Filmski programi//HR
BEGIN:VEVENT
UID:f49b857ff77edb1971a1abe75105ca9c@kinotuskanac.hr
DTSTAMP:20260421T092812Z
DTSTART:20220916T190000
DTEND:20220916T210000
SUMMARY:Nimfomanka 1
LOCATION:Kino Tuškanac
DESCRIPTION:Nymphomaniac: Vol. I, Danska, Njemačka, Francuska, Belgija, UK, Švedska, SAD, 2013 R: Lars Von Trier
END:VEVENT
END:VCALENDAR