BEGIN:VCALENDAR
VERSION:2.0
PRODID:-//Kino Tuškanac//Filmski programi//HR
BEGIN:VEVENT
UID:cceb1e5acf1c16dc9b17a31744538ce1@kinotuskanac.hr
DTSTAMP:20260419T141805Z
DTSTART:20220917T190000
DTEND:20220917T210000
SUMMARY:Nimfomanka 2
LOCATION:Kino Tuškanac
DESCRIPTION:Nymphomaniac: Vol. II, Danska, Njemačka, Francuska, Belgija, UK, Švedska, SAD, 2013 R: Lars Von Trier
END:VEVENT
END:VCALENDAR