BEGIN:VCALENDAR
VERSION:2.0
PRODID:-//Kino Tuškanac//Filmski programi//HR
BEGIN:VEVENT
UID:653e0d43245c29e381643640ec7c44f1@kinotuskanac.hr
DTSTAMP:20260420T174905Z
DTSTART:20220919T190000
DTEND:20220919T210000
SUMMARY:Apokalipsa danas: Final Cut
LOCATION:Kino Tuškanac
DESCRIPTION:Apocalypse Now: Final Cut, SAD, 1979 | Mjesto prikazivanja filma: Kino Forum (SD Stjepan Radić, Jarunska ul. 2) R: Francis Ford Coppola
END:VEVENT
END:VCALENDAR