BEGIN:VCALENDAR
VERSION:2.0
PRODID:-//Kino Tuškanac//Filmski programi//HR
BEGIN:VEVENT
UID:6da0ec04abcf04eccbef910bbf6e36ca@kinotuskanac.hr
DTSTAMP:20260423T150150Z
DTSTART:20060322T210000
DTEND:20060322T230000
SUMMARY:Najbolja mama
LOCATION:Kino Tuškanac
DESCRIPTION:Äideistä parhain, 2005 R: Klaus Härö
END:VEVENT
END:VCALENDAR