BEGIN:VCALENDAR
VERSION:2.0
PRODID:-//Kino Tuškanac//Filmski programi//HR
BEGIN:VEVENT
UID:5909019a4eef195619a943eb2b3ff8a1@kinotuskanac.hr
DTSTAMP:20260424T102646Z
DTSTART:20220929T210000
DTEND:20220929T230000
SUMMARY:Predator
LOCATION:Kino Tuškanac
DESCRIPTION:SAD, Meksiko, 1987 R: John McTiernan
END:VEVENT
END:VCALENDAR