BEGIN:VCALENDAR
VERSION:2.0
PRODID:-//Kino Tuškanac//Filmski programi//HR
BEGIN:VEVENT
UID:f71fc22660b121982f3b7842def22e5f@kinotuskanac.hr
DTSTAMP:20260421T133616Z
DTSTART:20221008T190000
DTEND:20221008T210000
SUMMARY:Raj: Ufanje
LOCATION:Kino Tuškanac
DESCRIPTION:Paradies: Hoffnung, Austrija, Francuska, Njemačka, 2013 R: Ulrich Seidl
END:VEVENT
END:VCALENDAR