BEGIN:VCALENDAR
VERSION:2.0
PRODID:-//Kino Tuškanac//Filmski programi//HR
BEGIN:VEVENT
UID:916fc722c011d0e52534cf0f4b8abed5@kinotuskanac.hr
DTSTAMP:20260421T092900Z
DTSTART:20221019T190000
DTEND:20221019T210000
SUMMARY:Betty Blue
LOCATION:Kino Tuškanac
DESCRIPTION:37°2 le matin, Francuska, 1986 R: Jean-Jacques Beineix
END:VEVENT
END:VCALENDAR