BEGIN:VCALENDAR
VERSION:2.0
PRODID:-//Kino Tuškanac//Filmski programi//HR
BEGIN:VEVENT
UID:bcb7381e8f5da45cc425343f040154db@kinotuskanac.hr
DTSTAMP:20260422T082546Z
DTSTART:20221025T130000
DTEND:20221025T150000
SUMMARY:Garbura
LOCATION:Kino Tuškanac
DESCRIPTION:Hrvatska, Srbija, 2022 R: Josip Žuvan
END:VEVENT
END:VCALENDAR