BEGIN:VCALENDAR
VERSION:2.0
PRODID:-//Kino Tuškanac//Filmski programi//HR
BEGIN:VEVENT
UID:d5158d380eb76f8bdcbfe9cce8f72484@kinotuskanac.hr
DTSTAMP:20260422T082417Z
DTSTART:20221025T210000
DTEND:20221025T230000
SUMMARY:Garbura
LOCATION:Kino Tuškanac
DESCRIPTION:Hrvatska, Srbija, 2022 R: Josip Žuvan
END:VEVENT
END:VCALENDAR