BEGIN:VCALENDAR
VERSION:2.0
PRODID:-//Kino Tuškanac//Filmski programi//HR
BEGIN:VEVENT
UID:b30f7a5a2cb831d8059042703ad40a04@kinotuskanac.hr
DTSTAMP:20260419T225250Z
DTSTART:20221029T190000
DTEND:20221029T210000
SUMMARY:Sigurno mjesto
LOCATION:Kino Tuškanac
DESCRIPTION:Hrvatska, 2022 R: Juraj Lerotić
END:VEVENT
END:VCALENDAR