BEGIN:VCALENDAR
VERSION:2.0
PRODID:-//Kino Tuškanac//Filmski programi//HR
BEGIN:VEVENT
UID:b268be6b3e5dbce6cfc8be4744e4314e@kinotuskanac.hr
DTSTAMP:20260422T082722Z
DTSTART:20221029T210000
DTEND:20221029T230000
SUMMARY:Garbura
LOCATION:Kino Tuškanac
DESCRIPTION:Hrvatska, Srbija, 2022 R: Josip Žuvan
END:VEVENT
END:VCALENDAR