BEGIN:VCALENDAR
VERSION:2.0
PRODID:-//Kino Tuškanac//Filmski programi//HR
BEGIN:VEVENT
UID:34f61b13aaa0b9fd0207f28eac5f8b70@kinotuskanac.hr
DTSTAMP:20260421T133844Z
DTSTART:20221102T190000
DTEND:20221102T210000
SUMMARY:Panov labirint
LOCATION:Kino Tuškanac
DESCRIPTION:El laberinto del fauno, Meksiko, Španjolska, 2006 R: Guillermo del Toro
END:VEVENT
END:VCALENDAR