BEGIN:VCALENDAR
VERSION:2.0
PRODID:-//Kino Tuškanac//Filmski programi//HR
BEGIN:VEVENT
UID:4ffc66e9390dfc966eec02390bbd987a@kinotuskanac.hr
DTSTAMP:20260421T182437Z
DTSTART:20221104T190000
DTEND:20221104T210000
SUMMARY:Ulica noćnih mora
LOCATION:Kino Tuškanac
DESCRIPTION:Nigthmare Alley, SAD, Meksiko, Kanada, 2021 R: Guillermo del Toro
END:VEVENT
END:VCALENDAR