BEGIN:VCALENDAR
VERSION:2.0
PRODID:-//Kino Tuškanac//Filmski programi//HR
BEGIN:VEVENT
UID:00a7c59d479672eb5ace65b6bf91fcf8@kinotuskanac.hr
DTSTAMP:20260421T182107Z
DTSTART:20221105T190000
DTEND:20221105T210000
SUMMARY:Cronos
LOCATION:Kino Tuškanac
DESCRIPTION:Meksiko, 1993 R: Guillermo del Toro
END:VEVENT
END:VCALENDAR