BEGIN:VCALENDAR
VERSION:2.0
PRODID:-//Kino Tuškanac//Filmski programi//HR
BEGIN:VEVENT
UID:b647f2dad6f5654d48ff964ca9daf95c@kinotuskanac.hr
DTSTAMP:20260422T181211Z
DTSTART:20060403T180000
DTEND:20060403T200000
SUMMARY:Posljednji tango u Parizu
LOCATION:Kino Tuškanac
DESCRIPTION:L' ultimo tango a Parigi, Francuska, Italija, 1972 R: Bernardo Bertolucci
END:VEVENT
END:VCALENDAR