BEGIN:VCALENDAR
VERSION:2.0
PRODID:-//Kino Tuškanac//Filmski programi//HR
BEGIN:VEVENT
UID:e437be172979773fadc7991b20849618@kinotuskanac.hr
DTSTAMP:20260423T042335Z
DTSTART:20221109T210000
DTEND:20221109T230000
SUMMARY:Službeni položaj
LOCATION:Kino Tuškanac
DESCRIPTION:Jugoslavija: Srbija, 1964 R: Fadil Hadžić
END:VEVENT
END:VCALENDAR