BEGIN:VCALENDAR
VERSION:2.0
PRODID:-//Kino Tuškanac//Filmski programi//HR
BEGIN:VEVENT
UID:3b6a9f991cbe65821f1a1cdb38a6a05a@kinotuskanac.hr
DTSTAMP:20260421T122826Z
DTSTART:20221112T190000
DTEND:20221112T210000
SUMMARY:Posljedice ljubavi
LOCATION:Kino Tuškanac
DESCRIPTION:Le conseguenze dell'amore, Italija, 2004 R: Paolo Sorrentino
END:VEVENT
END:VCALENDAR