BEGIN:VCALENDAR
VERSION:2.0
PRODID:-//Kino Tuškanac//Filmski programi//HR
BEGIN:VEVENT
UID:972295f0aafa50a2904cc0fb5deec930@kinotuskanac.hr
DTSTAMP:20260422T141624Z
DTSTART:20060403T210000
DTEND:20060403T230000
SUMMARY:Mjesec
LOCATION:Kino Tuškanac
DESCRIPTION:La luna, Italija, 1979 R: Bernardo Bertolucci
END:VEVENT
END:VCALENDAR