BEGIN:VCALENDAR
VERSION:2.0
PRODID:-//Kino Tuškanac//Filmski programi//HR
BEGIN:VEVENT
UID:d9ff89ea8368fcaa8c9a989d429a7125@kinotuskanac.hr
DTSTAMP:20260421T100254Z
DTSTART:20221113T190000
DTEND:20221113T210000
SUMMARY:Mladost
LOCATION:Kino Tuškanac
DESCRIPTION:Youth, Francuska, Italija, Švicarska, UK, 2015 R: Paolo Sorrentino
END:VEVENT
END:VCALENDAR