BEGIN:VCALENDAR
VERSION:2.0
PRODID:-//Kino Tuškanac//Filmski programi//HR
BEGIN:VEVENT
UID:bbbc89587a95551248d4352cd3bb8f81@kinotuskanac.hr
DTSTAMP:20260421T122652Z
DTSTART:20221113T210000
DTEND:20221113T230000
SUMMARY:Obiteljski prijatelj
LOCATION:Kino Tuškanac
DESCRIPTION:L'amico di famiglia, Italija, Francuska, 2006 R: Paolo Sorrentino
END:VEVENT
END:VCALENDAR