BEGIN:VCALENDAR
VERSION:2.0
PRODID:-//Kino Tuškanac//Filmski programi//HR
BEGIN:VEVENT
UID:1849aa6c4476445433931e0977eb2dfa@kinotuskanac.hr
DTSTAMP:20260423T090334Z
DTSTART:20221114T190000
DTEND:20221114T210000
SUMMARY:Ovo mora biti pravo mjesto
LOCATION:Kino Tuškanac
DESCRIPTION:This Must Be the Place, Italija, Francuska, Irska, 2011 R: Paolo Sorrentino
END:VEVENT
END:VCALENDAR