BEGIN:VCALENDAR
VERSION:2.0
PRODID:-//Kino Tuškanac//Filmski programi//HR
BEGIN:VEVENT
UID:04e2fd2d071f562ee6b395d0560b5adf@kinotuskanac.hr
DTSTAMP:20260419T141948Z
DTSTART:20221114T210000
DTEND:20221114T230000
SUMMARY:Div (2008)
LOCATION:Kino Tuškanac
DESCRIPTION:Il divo, Italija, Francuska, 2008 R: Paolo Sorrentino
END:VEVENT
END:VCALENDAR