BEGIN:VCALENDAR
VERSION:2.0
PRODID:-//Kino Tuškanac//Filmski programi//HR
BEGIN:VEVENT
UID:f4b875e0e770984725d90f2a9c1c3bf3@kinotuskanac.hr
DTSTAMP:20260421T133412Z
DTSTART:20221117T210000
DTEND:20221117T230000
SUMMARY:Razjareni bik
LOCATION:Kino Tuškanac
DESCRIPTION:Raging Bull, SAD, 1980 R: Martin Scorsese
END:VEVENT
END:VCALENDAR