BEGIN:VCALENDAR
VERSION:2.0
PRODID:-//Kino Tuškanac//Filmski programi//HR
BEGIN:VEVENT
UID:1aa469b7a803e83e7537c894f8f5ed46@kinotuskanac.hr
DTSTAMP:20260422T141551Z
DTSTART:20060404T180000
DTEND:20060404T200000
SUMMARY:Mjesec
LOCATION:Kino Tuškanac
DESCRIPTION:La luna, Italija, 1979 R: Bernardo Bertolucci
END:VEVENT
END:VCALENDAR