BEGIN:VCALENDAR
VERSION:2.0
PRODID:-//Kino Tuškanac//Filmski programi//HR
BEGIN:VEVENT
UID:6d3b8e790785cf04f866de65955ae941@kinotuskanac.hr
DTSTAMP:20260421T080139Z
DTSTART:20221119T190000
DTEND:20221119T210000
SUMMARY:Idiotska noć
LOCATION:Kino Tuškanac
DESCRIPTION:After Hours, SAD, 1985 R: Martin Scorsese
END:VEVENT
END:VCALENDAR