BEGIN:VCALENDAR
VERSION:2.0
PRODID:-//Kino Tuškanac//Filmski programi//HR
BEGIN:VEVENT
UID:4b7b3608b757284a9c1763302b0ce2f0@kinotuskanac.hr
DTSTAMP:20260421T024004Z
DTSTART:20221119T210000
DTEND:20221119T230000
SUMMARY:Pokojni
LOCATION:Kino Tuškanac
DESCRIPTION:The Departed, SAD, Hong Kong, 2006 R: Martin Scorsese
END:VEVENT
END:VCALENDAR