BEGIN:VCALENDAR
VERSION:2.0
PRODID:-//Kino Tuškanac//Filmski programi//HR
BEGIN:VEVENT
UID:e2b11f27d029103d1e8c04776c0e1455@kinotuskanac.hr
DTSTAMP:20260422T181054Z
DTSTART:20060404T210000
DTEND:20060404T230000
SUMMARY:Posljednji tango u Parizu
LOCATION:Kino Tuškanac
DESCRIPTION:L' ultimo tango a Parigi, Francuska, Italija, 1972 R: Bernardo Bertolucci
END:VEVENT
END:VCALENDAR