BEGIN:VCALENDAR
VERSION:2.0
PRODID:-//Kino Tuškanac//Filmski programi//HR
BEGIN:VEVENT
UID:057338be321672a9336d0f0ea8f63612@kinotuskanac.hr
DTSTAMP:20260421T080140Z
DTSTART:20221129T190000
DTEND:20221129T210000
SUMMARY:Tko to kuca na moja vrata?
LOCATION:Kino Tuškanac
DESCRIPTION:Who's That Knocking At My Door?, SAD, 1967 R: Martin Scorsese
END:VEVENT
END:VCALENDAR