BEGIN:VCALENDAR
VERSION:2.0
PRODID:-//Kino Tuškanac//Filmski programi//HR
BEGIN:VEVENT
UID:de4e7c09780e5674e836f42aedf436fc@kinotuskanac.hr
DTSTAMP:20260421T141708Z
DTSTART:20221129T210000
DTEND:20221129T230000
SUMMARY:Doba nevinosti
LOCATION:Kino Tuškanac
DESCRIPTION:The Age of Innocence, SAD, 1993 R: Martin Scorsese
END:VEVENT
END:VCALENDAR