BEGIN:VCALENDAR
VERSION:2.0
PRODID:-//Kino Tuškanac//Filmski programi//HR
BEGIN:VEVENT
UID:0fe9be1f59c6cc91627f010365e10e37@kinotuskanac.hr
DTSTAMP:20260423T085943Z
DTSTART:20221130T190000
DTEND:20221130T210000
SUMMARY:New York, New York
LOCATION:Kino Tuškanac
DESCRIPTION:SAD, 1977 R: Martin Scorsese
END:VEVENT
END:VCALENDAR