BEGIN:VCALENDAR
VERSION:2.0
PRODID:-//Kino Tuškanac//Filmski programi//HR
BEGIN:VEVENT
UID:31ff6db13df135aece1cc8b7741e54e1@kinotuskanac.hr
DTSTAMP:20260422T214913Z
DTSTART:20060405T190000
DTEND:20060405T210000
SUMMARY:Posljednji kineski car
LOCATION:Kino Tuškanac
DESCRIPTION:The Last Emperor, UK, Italija, Francuska, 1987 R: Bernardo Bertolucci
END:VEVENT
END:VCALENDAR