BEGIN:VCALENDAR
VERSION:2.0
PRODID:-//Kino Tuškanac//Filmski programi//HR
BEGIN:VEVENT
UID:988df2c5d55916d76c2984c1a9db3ef3@kinotuskanac.hr
DTSTAMP:20260421T075227Z
DTSTART:20221201T210000
DTEND:20221201T230000
SUMMARY:Rt straha
LOCATION:Kino Tuškanac
DESCRIPTION:Cape Fear, SAD, 1991 R: Martin Scorsese
END:VEVENT
END:VCALENDAR