BEGIN:VCALENDAR
VERSION:2.0
PRODID:-//Kino Tuškanac//Filmski programi//HR
BEGIN:VEVENT
UID:1ef5aa6518689703724fffff1642d6e8@kinotuskanac.hr
DTSTAMP:20260419T225128Z
DTSTART:20221112T170000
DTEND:20221112T190000
SUMMARY:Sigurno mjesto
LOCATION:Kino Tuškanac
DESCRIPTION:Hrvatska, 2022 R: Juraj Lerotić
END:VEVENT
END:VCALENDAR