BEGIN:VCALENDAR
VERSION:2.0
PRODID:-//Kino Tuškanac//Filmski programi//HR
BEGIN:VEVENT
UID:d53e847669fceca8d734154226089bf8@kinotuskanac.hr
DTSTAMP:20260419T225102Z
DTSTART:20221113T170000
DTEND:20221113T190000
SUMMARY:Sigurno mjesto
LOCATION:Kino Tuškanac
DESCRIPTION:Hrvatska, 2022 R: Juraj Lerotić
END:VEVENT
END:VCALENDAR