BEGIN:VCALENDAR
VERSION:2.0
PRODID:-//Kino Tuškanac//Filmski programi//HR
BEGIN:VEVENT
UID:661f5ea6a18181f54bb2737da6a3f93b@kinotuskanac.hr
DTSTAMP:20260421T235411Z
DTSTART:20221212T190000
DTEND:20221212T210000
SUMMARY:Barok u Hrvatskoj
LOCATION:Kino Tuškanac
DESCRIPTION:NDH, 1942 R: Oktavijan Miletić
END:VEVENT
END:VCALENDAR