BEGIN:VCALENDAR
VERSION:2.0
PRODID:-//Kino Tuškanac//Filmski programi//HR
BEGIN:VEVENT
UID:38796a84b0fe78df8b84e946217e619f@kinotuskanac.hr
DTSTAMP:20260420T202115Z
DTSTART:20221214T190000
DTEND:20221214T210000
SUMMARY:Sol zemlje
LOCATION:Kino Tuškanac
DESCRIPTION:The Salt of the Earth, Brazil, Francuska, Italija, 2014 R: Juliano Ribeiro Salgado
END:VEVENT
END:VCALENDAR