BEGIN:VCALENDAR
VERSION:2.0
PRODID:-//Kino Tuškanac//Filmski programi//HR
BEGIN:VEVENT
UID:2027aacc5f1ed55f2abe409079460457@kinotuskanac.hr
DTSTAMP:20260425T174332Z
DTSTART:20221216T190000
DTEND:20221216T210000
SUMMARY:Ed Wood
LOCATION:Kino Tuškanac
DESCRIPTION:SAD, 1994 R: Tim Burton
END:VEVENT
END:VCALENDAR